BEGIN:VCALENDAR
VERSION:2.0
PRODID:-//Aspire - ECPv5.1.3//NONSGML v1.0//EN
CALSCALE:GREGORIAN
METHOD:PUBLISH
X-WR-CALNAME:Aspire
X-ORIGINAL-URL:https://aspiress.com.au
X-WR-CALDESC:Events for Aspire
BEGIN:VTIMEZONE
TZID:Australia/Sydney
BEGIN:STANDARD
TZOFFSETFROM:+1100
TZOFFSETTO:+1000
TZNAME:AEST
DTSTART:20170401T160000
END:STANDARD
BEGIN:DAYLIGHT
TZOFFSETFROM:+1000
TZOFFSETTO:+1100
TZNAME:AEDT
DTSTART:20170930T160000
END:DAYLIGHT
END:VTIMEZONE
BEGIN:VEVENT
DTSTART;TZID=Australia/Sydney:20170504T100000
DTEND;TZID=Australia/Sydney:20170504T120000
DTSTAMP:20210226T214223
CREATED:20170321T020716Z
LAST-MODIFIED:20170321T020716Z
UID:3754-1493892000-1493899200@aspiress.com.au
SUMMARY:AMAZE NDIS Workshop
DESCRIPTION:AMAZE NDIS Workshop\nThis workshop will be presented by Pamela Gatos – Co-ordinator Community Engagement Project (NDIS) at AMAZE \n
URL:https://aspiress.com.au/calendar-of-events/amaze-ndis-workshop/
LOCATION:Aspire Head Office\, 220 Borella Road\, ALBURY\, NSW\, Australia
END:VEVENT
END:VCALENDAR