BEGIN:VCALENDAR
VERSION:2.0
PRODID:-//Aspire - ECPv5.1.3//NONSGML v1.0//EN
CALSCALE:GREGORIAN
METHOD:PUBLISH
X-WR-CALNAME:Aspire
X-ORIGINAL-URL:https://aspiress.com.au
X-WR-CALDESC:Events for Aspire
BEGIN:VTIMEZONE
TZID:Australia/Sydney
BEGIN:STANDARD
TZOFFSETFROM:+1100
TZOFFSETTO:+1000
TZNAME:AEST
DTSTART:20170401T160000
END:STANDARD
BEGIN:DAYLIGHT
TZOFFSETFROM:+1000
TZOFFSETTO:+1100
TZNAME:AEDT
DTSTART:20170930T160000
END:DAYLIGHT
END:VTIMEZONE
BEGIN:VEVENT
DTSTART;TZID=Australia/Sydney:20170420T100000
DTEND;TZID=Australia/Sydney:20170420T120000
DTSTAMP:20210226T221619
CREATED:20170321T020240Z
LAST-MODIFIED:20170321T020240Z
UID:3748-1492682400-1492689600@aspiress.com.au
SUMMARY:Healthy Mothers Healthy Families Support Group – Albury Wodonga
DESCRIPTION:Healthy Mothers Healthy Families Support Group – Albury Wodonga\nWalking Group – you are invited to bring the kids with their bikes and scooters during the school holidays.  The walk will be at a gentle pace with morning tea provided afterwards.\n
URL:https://aspiress.com.au/calendar-of-events/healthy-mothers-healthy-families-support-group-albury-wodonga-3/
LOCATION:Kremur Street Boat ramp\, Kremur Street \, West Albury \, NSW\, 2640\, Australia
ORGANIZER;CN="Aspire%20Support%20Services":MAILTO:reception@aspiress.com.au 
END:VEVENT
END:VCALENDAR