BEGIN:VCALENDAR
VERSION:2.0
PRODID:-//Aspire - ECPv5.1.3//NONSGML v1.0//EN
CALSCALE:GREGORIAN
METHOD:PUBLISH
X-WR-CALNAME:Aspire
X-ORIGINAL-URL:https://aspiress.com.au
X-WR-CALDESC:Events for Aspire
BEGIN:VTIMEZONE
TZID:Australia/Sydney
BEGIN:STANDARD
TZOFFSETFROM:+1100
TZOFFSETTO:+1000
TZNAME:AEST
DTSTART:20190406T160000
END:STANDARD
BEGIN:DAYLIGHT
TZOFFSETFROM:+1000
TZOFFSETTO:+1100
TZNAME:AEDT
DTSTART:20191005T160000
END:DAYLIGHT
END:VTIMEZONE
BEGIN:VEVENT
DTSTART;TZID=Australia/Sydney:20191213T100000
DTEND;TZID=Australia/Sydney:20191213T140000
DTSTAMP:20210226T221325
CREATED:20191125T000216Z
LAST-MODIFIED:20191125T000216Z
UID:6834-1576231200-1576245600@aspiress.com.au
SUMMARY:Support Group - Caring Grandparents Network
DESCRIPTION:Caring Grandparents Network\nYou are invited to join us for our final meeting for the year. \nWhere: Cafe Borellas\, 117 Borella Road\, East Albury \nWhen: Friday 13 December\, 10:00am \nCost: Subsidised \nBookings: Please phone our friendly Customer Service Team on 02 6058 4000 or email customerservice@aspiress.com.au. \nIf you are interested in joining any Aspire Support Groups\, please contact our friendly Customer Service Team during business hours Monday to Friday\, T 02 6058 4000\, E customerservice@aspiress.com.au. \n
URL:https://aspiress.com.au/calendar-of-events/support-group-caring-grandparents-network-17/
LOCATION:Cafe Borellas\, 117 Borella Road\, Albury\, NSW\, 2640\, Australia
CATEGORIES:Family Support Group
ORGANIZER;CN="Aspire%20Support%20Services%20-%20Customer%20Service":MAILTO:customerservice@aspiress.com.au
END:VEVENT
END:VCALENDAR